BEGIN:VCALENDAR
VERSION:2.0
PRODID:-//TYPO3/NONSGML News system (news)//EN
BEGIN:VEVENT
UID:news-128468@doctorate.uni-graz.at
DTSTAMP:20250625T061659Z
DTSTART:20260520T073000Z
DTEND:20260520T130000Z
SUMMARY:How to get heard? Tips on Communicating Research
END:VEVENT
END:VCALENDAR
